Package: NanoStringDiff Version: 1.38.0 Command: /Library/Frameworks/R.framework/Resources/bin/R CMD check --install=check:NanoStringDiff.install-out.txt --library=/Library/Frameworks/R.framework/Resources/library --no-vignettes --timings NanoStringDiff_1.38.0.tar.gz StartedAt: 2025-10-15 05:42:15 -0400 (Wed, 15 Oct 2025) EndedAt: 2025-10-15 05:44:39 -0400 (Wed, 15 Oct 2025) EllapsedTime: 144.6 seconds RetCode: 0 Status: WARNINGS CheckDir: NanoStringDiff.Rcheck Warnings: 1