Package: NanoStringDiff Version: 1.38.0 Command: /Library/Frameworks/R.framework/Resources/bin/R CMD build --keep-empty-dirs --no-resave-data NanoStringDiff StartedAt: 2025-10-14 05:31:12 -0400 (Tue, 14 Oct 2025) EndedAt: 2025-10-14 05:31:44 -0400 (Tue, 14 Oct 2025) EllapsedTime: 31.7 seconds RetCode: 0 Status: OK PackageFile: NanoStringDiff_1.38.0.tar.gz PackageFileSize: 416.4 KiB