Package: NBAMSeq Version: 1.24.1 Command: /home/biocbuild/bbs-3.21-bioc/R/bin/R CMD INSTALL NBAMSeq StartedAt: 2025-10-15 15:35:30 -0400 (Wed, 15 Oct 2025) EndedAt: 2025-10-15 15:36:01 -0400 (Wed, 15 Oct 2025) EllapsedTime: 31.1 seconds RetCode: 0 Status: OK