Package: NBAMSeq Version: 1.24.1 Command: /home/biocbuild/bbs-3.21-bioc/R/bin/R CMD build --keep-empty-dirs --no-resave-data NBAMSeq StartedAt: 2025-10-15 18:48:55 -0400 (Wed, 15 Oct 2025) EndedAt: 2025-10-15 18:49:49 -0400 (Wed, 15 Oct 2025) EllapsedTime: 54.0 seconds RetCode: 0 Status: OK PackageFile: NBAMSeq_1.24.1.tar.gz PackageFileSize: 325.1 KiB