Package: NBAMSeq Version: 1.24.1 Command: /Library/Frameworks/R.framework/Resources/bin/R CMD build --keep-empty-dirs --no-resave-data NBAMSeq StartedAt: 2025-10-14 05:33:20 -0400 (Tue, 14 Oct 2025) EndedAt: 2025-10-14 05:34:29 -0400 (Tue, 14 Oct 2025) EllapsedTime: 69.1 seconds RetCode: 0 Status: OK PackageFile: NBAMSeq_1.24.1.tar.gz PackageFileSize: 346.6 KiB