Package: MutationalPatterns Version: 3.18.0 Command: /home/biocbuild/bbs-3.21-bioc/R/bin/R CMD INSTALL MutationalPatterns StartedAt: 2025-10-15 15:41:12 -0400 (Wed, 15 Oct 2025) EndedAt: 2025-10-15 15:41:30 -0400 (Wed, 15 Oct 2025) EllapsedTime: 18.5 seconds RetCode: 0 Status: OK