Package: MutationalPatterns Version: 3.18.0 Command: /home/biocbuild/bbs-3.21-bioc/R/bin/R CMD build --keep-empty-dirs --no-resave-data MutationalPatterns StartedAt: 2025-10-15 18:47:27 -0400 (Wed, 15 Oct 2025) EndedAt: 2025-10-15 18:57:46 -0400 (Wed, 15 Oct 2025) EllapsedTime: 619.6 seconds RetCode: 0 Status: OK PackageFile: MutationalPatterns_3.18.0.tar.gz PackageFileSize: 5.685 MiB