Package: MutationalPatterns Version: 3.18.0 Command: /home/biocbuild/R/R/bin/R CMD INSTALL MutationalPatterns StartedAt: 2025-10-13 20:57:38 -0000 (Mon, 13 Oct 2025) EndedAt: 2025-10-13 20:58:05 -0000 (Mon, 13 Oct 2025) EllapsedTime: 26.9 seconds RetCode: 0 Status: OK