Package: MutationalPatterns Version: 3.18.0 Command: /home/biocbuild/R/R/bin/R CMD build --keep-empty-dirs --no-resave-data MutationalPatterns StartedAt: 2025-10-14 02:57:25 -0000 (Tue, 14 Oct 2025) EndedAt: 2025-10-14 03:13:27 -0000 (Tue, 14 Oct 2025) EllapsedTime: 962.2 seconds RetCode: 0 Status: OK PackageFile: MutationalPatterns_3.18.0.tar.gz PackageFileSize: 5.298 MiB