Package: MultimodalExperiment Version: 1.8.0 Command: rm -rf MultimodalExperiment.buildbin-libdir && mkdir MultimodalExperiment.buildbin-libdir && E:\biocbuild\bbs-3.21-bioc\R\bin\R.exe CMD INSTALL --build --library=MultimodalExperiment.buildbin-libdir MultimodalExperiment_1.8.0.tar.gz StartedAt: 2025-08-15 09:48:25 -0400 (Fri, 15 Aug 2025) EndedAt: 2025-08-15 09:54:38 -0400 (Fri, 15 Aug 2025) EllapsedTime: 373.2 seconds RetCode: 0 Status: OK PackageFile: MultimodalExperiment_1.8.0.zip PackageFileSize: 4.458 MiB