Package: MultimodalExperiment Version: 1.8.0 Command: /Library/Frameworks/R.framework/Resources/bin/R CMD INSTALL MultimodalExperiment StartedAt: 2025-10-13 15:40:52 -0400 (Mon, 13 Oct 2025) EndedAt: 2025-10-13 15:41:50 -0400 (Mon, 13 Oct 2025) EllapsedTime: 58.8 seconds RetCode: 0 Status: OK