Package: MultimodalExperiment Version: 1.8.0 Command: rm -rf MultimodalExperiment.buildbin-libdir && mkdir MultimodalExperiment.buildbin-libdir && /Users/biocbuild/BBS/utils/build-universal.sh MultimodalExperiment_1.8.0.tar.gz /Library/Frameworks/R.framework/Resources/bin/R MultimodalExperiment.buildbin-libdir StartedAt: 2025-10-14 14:13:21 -0400 (Tue, 14 Oct 2025) EndedAt: 2025-10-14 14:14:51 -0400 (Tue, 14 Oct 2025) EllapsedTime: 90.5 seconds RetCode: 0 Status: OK PackageFile: MultimodalExperiment_1.8.0.tgz PackageFileSize: 4.46 MiB