Package: MultiRNAflow Version: 1.6.0 Command: /home/biocbuild/bbs-3.21-bioc/R/bin/R CMD build --keep-empty-dirs --no-resave-data MultiRNAflow StartedAt: 2025-10-15 18:46:48 -0400 (Wed, 15 Oct 2025) EndedAt: 2025-10-15 18:51:54 -0400 (Wed, 15 Oct 2025) EllapsedTime: 305.3 seconds RetCode: 1 Status: ERROR PackageFile: None PackageFileSize: NA