Package: MultiRNAflow Version: 1.6.0 Command: /home/biocbuild/R/R/bin/R CMD build --keep-empty-dirs --no-resave-data MultiRNAflow StartedAt: 2025-10-14 02:56:26 -0000 (Tue, 14 Oct 2025) EndedAt: 2025-10-14 03:03:52 -0000 (Tue, 14 Oct 2025) EllapsedTime: 446.3 seconds RetCode: 1 Status: ERROR PackageFile: None PackageFileSize: NA