Package: MultiRNAflow Version: 1.6.0 Command: /Library/Frameworks/R.framework/Resources/bin/R CMD build --keep-empty-dirs --no-resave-data MultiRNAflow StartedAt: 2025-10-14 05:19:51 -0400 (Tue, 14 Oct 2025) EndedAt: 2025-10-14 05:26:20 -0400 (Tue, 14 Oct 2025) EllapsedTime: 389.8 seconds RetCode: 1 Status: ERROR PackageFile: None PackageFileSize: NA