Package: MultiDataSet Version: 1.36.0 Command: /home/biocbuild/bbs-3.21-bioc/R/bin/R CMD build --keep-empty-dirs --no-resave-data MultiDataSet StartedAt: 2025-10-15 18:46:19 -0400 (Wed, 15 Oct 2025) EndedAt: 2025-10-15 18:47:10 -0400 (Wed, 15 Oct 2025) EllapsedTime: 50.1 seconds RetCode: 0 Status: OK PackageFile: MultiDataSet_1.36.0.tar.gz PackageFileSize: 494.7 KiB