Package: MultiDataSet Version: 1.36.0 Command: /Library/Frameworks/R.framework/Resources/bin/R CMD INSTALL MultiDataSet StartedAt: 2025-10-13 16:19:45 -0400 (Mon, 13 Oct 2025) EndedAt: 2025-10-13 16:20:13 -0400 (Mon, 13 Oct 2025) EllapsedTime: 28.0 seconds RetCode: 0 Status: OK