Package: MultiDataSet Version: 1.36.0 Command: /Library/Frameworks/R.framework/Resources/bin/R CMD check --install=check:MultiDataSet.install-out.txt --library=/Library/Frameworks/R.framework/Resources/library --no-vignettes --timings MultiDataSet_1.36.0.tar.gz StartedAt: 2025-10-15 05:24:21 -0400 (Wed, 15 Oct 2025) EndedAt: 2025-10-15 05:27:42 -0400 (Wed, 15 Oct 2025) EllapsedTime: 201.4 seconds RetCode: 0 Status: WARNINGS CheckDir: MultiDataSet.Rcheck Warnings: 1