Package: MultiDataSet Version: 1.36.0 Command: /Library/Frameworks/R.framework/Resources/bin/R CMD build --keep-empty-dirs --no-resave-data MultiDataSet StartedAt: 2025-10-14 05:17:17 -0400 (Tue, 14 Oct 2025) EndedAt: 2025-10-14 05:18:28 -0400 (Tue, 14 Oct 2025) EllapsedTime: 71.2 seconds RetCode: 0 Status: OK PackageFile: MultiDataSet_1.36.0.tar.gz PackageFileSize: 494.9 KiB