Package: MultiBaC Version: 1.18.0 Command: /home/biocbuild/R/R/bin/R CMD INSTALL MultiBaC StartedAt: 2025-10-13 21:01:04 -0000 (Mon, 13 Oct 2025) EndedAt: 2025-10-13 21:01:11 -0000 (Mon, 13 Oct 2025) EllapsedTime: 7.3 seconds RetCode: 0 Status: OK