Package: MultiBaC Version: 1.18.0 Command: /Library/Frameworks/R.framework/Resources/bin/R CMD INSTALL MultiBaC StartedAt: 2025-10-13 17:36:31 -0400 (Mon, 13 Oct 2025) EndedAt: 2025-10-13 17:36:37 -0400 (Mon, 13 Oct 2025) EllapsedTime: 6.4 seconds RetCode: 0 Status: OK