Package: MultiBaC Version: 1.18.0 Command: rm -rf MultiBaC.buildbin-libdir && mkdir MultiBaC.buildbin-libdir && /Users/biocbuild/BBS/utils/build-universal.sh MultiBaC_1.18.0.tar.gz /Library/Frameworks/R.framework/Resources/bin/R MultiBaC.buildbin-libdir StartedAt: 2025-10-15 19:31:59 -0400 (Wed, 15 Oct 2025) EndedAt: 2025-10-15 19:32:08 -0400 (Wed, 15 Oct 2025) EllapsedTime: 8.9 seconds RetCode: 0 Status: OK PackageFile: MultiBaC_1.18.0.tgz PackageFileSize: 1.805 MiB