Package: MultiAssayExperiment Version: 1.34.0 Command: /home/biocbuild/bbs-3.21-bioc/R/bin/R CMD INSTALL MultiAssayExperiment StartedAt: 2025-10-15 15:18:49 -0400 (Wed, 15 Oct 2025) EndedAt: 2025-10-15 15:19:20 -0400 (Wed, 15 Oct 2025) EllapsedTime: 31.0 seconds RetCode: 0 Status: OK