Package: MultiAssayExperiment Version: 1.34.0 Command: /home/biocbuild/bbs-3.21-bioc/R/bin/R CMD build --keep-empty-dirs --no-resave-data MultiAssayExperiment StartedAt: 2025-10-15 18:46:12 -0400 (Wed, 15 Oct 2025) EndedAt: 2025-10-15 18:47:14 -0400 (Wed, 15 Oct 2025) EllapsedTime: 61.1 seconds RetCode: 0 Status: OK PackageFile: MultiAssayExperiment_1.34.0.tar.gz PackageFileSize: 1.167 MiB