Package: MultiAssayExperiment Version: 1.34.0 Command: /home/biocbuild/R/R/bin/R CMD INSTALL MultiAssayExperiment StartedAt: 2025-10-13 20:31:29 -0000 (Mon, 13 Oct 2025) EndedAt: 2025-10-13 20:32:14 -0000 (Mon, 13 Oct 2025) EllapsedTime: 45.0 seconds RetCode: 0 Status: OK