Package: MultiAssayExperiment Version: 1.34.0 Command: /home/biocbuild/R/R/bin/R CMD build --keep-empty-dirs --no-resave-data MultiAssayExperiment StartedAt: 2025-10-14 02:55:13 -0000 (Tue, 14 Oct 2025) EndedAt: 2025-10-14 02:56:41 -0000 (Tue, 14 Oct 2025) EllapsedTime: 88.1 seconds RetCode: 0 Status: OK PackageFile: MultiAssayExperiment_1.34.0.tar.gz PackageFileSize: 1.209 MiB