Package: MultiAssayExperiment Version: 1.34.0 Command: /Library/Frameworks/R.framework/Resources/bin/R CMD build --keep-empty-dirs --no-resave-data MultiAssayExperiment StartedAt: 2025-10-14 05:15:52 -0400 (Tue, 14 Oct 2025) EndedAt: 2025-10-14 05:17:17 -0400 (Tue, 14 Oct 2025) EllapsedTime: 84.9 seconds RetCode: 0 Status: OK PackageFile: MultiAssayExperiment_1.34.0.tar.gz PackageFileSize: 1.151 MiB