Package: MuData Version: 1.12.0 Command: /home/biocbuild/bbs-3.21-bioc/R/bin/R CMD build --keep-empty-dirs --no-resave-data MuData StartedAt: 2025-10-15 18:46:02 -0400 (Wed, 15 Oct 2025) EndedAt: 2025-10-15 18:48:22 -0400 (Wed, 15 Oct 2025) EllapsedTime: 139.1 seconds RetCode: 0 Status: OK PackageFile: MuData_1.12.0.tar.gz PackageFileSize: 2.035 MiB