Package: MuData Version: 1.12.0 Command: /home/biocbuild/R/R/bin/R CMD INSTALL MuData StartedAt: 2025-10-13 20:32:16 -0000 (Mon, 13 Oct 2025) EndedAt: 2025-10-13 20:32:52 -0000 (Mon, 13 Oct 2025) EllapsedTime: 35.6 seconds RetCode: 0 Status: OK