Package: MuData Version: 1.12.0 Command: /home/biocbuild/R/R/bin/R CMD build --keep-empty-dirs --no-resave-data MuData StartedAt: 2025-10-14 02:55:08 -0000 (Tue, 14 Oct 2025) EndedAt: 2025-10-14 02:58:24 -0000 (Tue, 14 Oct 2025) EllapsedTime: 196.1 seconds RetCode: 0 Status: OK PackageFile: MuData_1.12.0.tar.gz PackageFileSize: 2.223 MiB