Package: MuData Version: 1.12.0 Command: /Library/Frameworks/R.framework/Resources/bin/R CMD INSTALL MuData StartedAt: 2025-10-13 16:17:55 -0400 (Mon, 13 Oct 2025) EndedAt: 2025-10-13 16:18:24 -0400 (Mon, 13 Oct 2025) EllapsedTime: 29.2 seconds RetCode: 0 Status: OK