Package: MuData Version: 1.12.0 Command: /Library/Frameworks/R.framework/Resources/bin/R CMD build --keep-empty-dirs --no-resave-data MuData StartedAt: 2025-10-14 05:15:49 -0400 (Tue, 14 Oct 2025) EndedAt: 2025-10-14 05:19:43 -0400 (Tue, 14 Oct 2025) EllapsedTime: 234.2 seconds RetCode: 0 Status: OK PackageFile: MuData_1.12.0.tar.gz PackageFileSize: 2.201 MiB