Package: MsFeatures Version: 1.16.0 Command: /Library/Frameworks/R.framework/Resources/bin/R CMD build --keep-empty-dirs --no-resave-data MsFeatures StartedAt: 2025-10-13 20:52:58 -0400 (Mon, 13 Oct 2025) EndedAt: 2025-10-13 20:54:15 -0400 (Mon, 13 Oct 2025) EllapsedTime: 76.5 seconds RetCode: 0 Status: OK PackageFile: MsFeatures_1.16.0.tar.gz PackageFileSize: 1.217 MiB