Package: MsFeatures Version: 1.16.0 Command: /Library/Frameworks/R.framework/Resources/bin/R CMD build --keep-empty-dirs --no-resave-data MsFeatures StartedAt: 2025-10-14 05:06:00 -0400 (Tue, 14 Oct 2025) EndedAt: 2025-10-14 05:06:45 -0400 (Tue, 14 Oct 2025) EllapsedTime: 45.3 seconds RetCode: 0 Status: OK PackageFile: MsFeatures_1.16.0.tar.gz PackageFileSize: 1.217 MiB