Package: MsExperiment Version: 1.10.1 Command: /home/biocbuild/R/R/bin/R CMD INSTALL MsExperiment StartedAt: 2025-10-13 20:50:49 -0000 (Mon, 13 Oct 2025) EndedAt: 2025-10-13 20:51:33 -0000 (Mon, 13 Oct 2025) EllapsedTime: 44.3 seconds RetCode: 0 Status: OK