Package: MsDataHub Version: 1.8.0 Command: /Library/Frameworks/R.framework/Resources/bin/R CMD build --keep-empty-dirs --no-resave-data MsDataHub StartedAt: 2025-04-21 17:38:02 -0400 (Mon, 21 Apr 2025) EndedAt: 2025-04-21 17:42:51 -0400 (Mon, 21 Apr 2025) EllapsedTime: 289.0 seconds RetCode: 0 Status: OK PackageFile: MsDataHub_1.8.0.tar.gz PackageFileSize: 372.3 KiB