Package: MsDataHub Version: 1.8.0 Command: rm -rf MsDataHub.buildbin-libdir && mkdir MsDataHub.buildbin-libdir && /Users/biocbuild/BBS/utils/build-universal.sh MsDataHub_1.8.0.tar.gz /Library/Frameworks/R.framework/Resources/bin/R MsDataHub.buildbin-libdir StartedAt: 2025-04-22 00:56:34 -0400 (Tue, 22 Apr 2025) EndedAt: 2025-04-22 00:56:57 -0400 (Tue, 22 Apr 2025) EllapsedTime: 22.8 seconds RetCode: 0 Status: OK PackageFile: MsDataHub_1.8.0.tgz PackageFileSize: 390.6 KiB