Package: MsDataHub Version: 1.8.0 Command: /home/biocbuild/R/R/bin/R CMD INSTALL MsDataHub StartedAt: 2025-10-13 20:40:21 -0000 (Mon, 13 Oct 2025) EndedAt: 2025-10-13 20:40:40 -0000 (Mon, 13 Oct 2025) EllapsedTime: 19.5 seconds RetCode: 0 Status: OK