Package: MsCoreUtils Version: 1.20.0 Command: /Library/Frameworks/R.framework/Resources/bin/R CMD INSTALL MsCoreUtils StartedAt: 2025-10-13 15:23:50 -0400 (Mon, 13 Oct 2025) EndedAt: 2025-10-13 15:24:07 -0400 (Mon, 13 Oct 2025) EllapsedTime: 17.3 seconds RetCode: 0 Status: OK