Package: MsBackendSql Version: 1.8.0 Command: /home/biocbuild/bbs-3.21-bioc/R/bin/R CMD INSTALL MsBackendSql StartedAt: 2025-10-15 15:13:46 -0400 (Wed, 15 Oct 2025) EndedAt: 2025-10-15 15:14:00 -0400 (Wed, 15 Oct 2025) EllapsedTime: 13.7 seconds RetCode: 0 Status: OK