Package: MsBackendSql Version: 1.8.0 Command: /Library/Frameworks/R.framework/Resources/bin/R CMD INSTALL MsBackendSql StartedAt: 2025-10-13 15:39:59 -0400 (Mon, 13 Oct 2025) EndedAt: 2025-10-13 15:40:15 -0400 (Mon, 13 Oct 2025) EllapsedTime: 15.6 seconds RetCode: 0 Status: OK