Package: MsBackendRawFileReader Version: 1.14.0 Command: /home/biocbuild/bbs-3.21-bioc/R/bin/R CMD build --keep-empty-dirs --no-resave-data MsBackendRawFileReader StartedAt: 2025-10-15 18:42:25 -0400 (Wed, 15 Oct 2025) EndedAt: 2025-10-15 18:44:10 -0400 (Wed, 15 Oct 2025) EllapsedTime: 105.1 seconds RetCode: 0 Status: OK PackageFile: MsBackendRawFileReader_1.14.0.tar.gz PackageFileSize: 1.595 MiB