Package: MsBackendRawFileReader Version: 1.14.0 Command: /Library/Frameworks/R.framework/Resources/bin/R CMD check --install=check:MsBackendRawFileReader.install-out.txt --library=/Library/Frameworks/R.framework/Resources/library --no-vignettes --timings MsBackendRawFileReader_1.14.0.tar.gz StartedAt: 2025-10-14 07:02:46 -0400 (Tue, 14 Oct 2025) EndedAt: 2025-10-14 07:10:17 -0400 (Tue, 14 Oct 2025) EllapsedTime: 450.9 seconds RetCode: 0 Status: OK CheckDir: MsBackendRawFileReader.Rcheck Warnings: 0