Package: MsBackendRawFileReader Version: 1.14.0 Command: /Library/Frameworks/R.framework/Resources/bin/R CMD build --keep-empty-dirs --no-resave-data MsBackendRawFileReader StartedAt: 2025-10-13 20:52:34 -0400 (Mon, 13 Oct 2025) EndedAt: 2025-10-13 20:56:51 -0400 (Mon, 13 Oct 2025) EllapsedTime: 256.7 seconds RetCode: 0 Status: OK PackageFile: MsBackendRawFileReader_1.14.0.tar.gz PackageFileSize: 1.469 MiB