Package: MsBackendRawFileReader Version: 1.14.0 Command: rm -rf MsBackendRawFileReader.buildbin-libdir && mkdir MsBackendRawFileReader.buildbin-libdir && /Users/biocbuild/BBS/utils/build-universal.sh MsBackendRawFileReader_1.14.0.tar.gz /Library/Frameworks/R.framework/Resources/bin/R MsBackendRawFileReader.buildbin-libdir StartedAt: 2025-10-14 14:10:36 -0400 (Tue, 14 Oct 2025) EndedAt: 2025-10-14 14:11:23 -0400 (Tue, 14 Oct 2025) EllapsedTime: 47.0 seconds RetCode: 0 Status: OK PackageFile: MsBackendRawFileReader_1.14.0.tgz PackageFileSize: 1.251 MiB