Package: MsBackendRawFileReader Version: 1.14.0 Command: /home/biocbuild/R/R/bin/R CMD build --keep-empty-dirs --no-resave-data MsBackendRawFileReader StartedAt: 2025-10-14 02:48:55 -0000 (Tue, 14 Oct 2025) EndedAt: 2025-10-14 02:49:32 -0000 (Tue, 14 Oct 2025) EllapsedTime: 37.0 seconds RetCode: 1 Status: ERROR PackageFile: None PackageFileSize: NA