Package: MsBackendRawFileReader Version: 1.14.0 Command: /Library/Frameworks/R.framework/Resources/bin/R CMD build --keep-empty-dirs --no-resave-data MsBackendRawFileReader StartedAt: 2025-10-14 05:05:28 -0400 (Tue, 14 Oct 2025) EndedAt: 2025-10-14 05:06:00 -0400 (Tue, 14 Oct 2025) EllapsedTime: 32.0 seconds RetCode: 1 Status: ERROR PackageFile: None PackageFileSize: NA