Package: MsBackendMsp Version: 1.12.0 Command: /Library/Frameworks/R.framework/Resources/bin/R CMD INSTALL MsBackendMsp StartedAt: 2025-10-13 15:26:33 -0400 (Mon, 13 Oct 2025) EndedAt: 2025-10-13 15:27:07 -0400 (Mon, 13 Oct 2025) EllapsedTime: 33.6 seconds RetCode: 0 Status: OK