Package: MsBackendMsp Version: 1.12.0 Command: /Library/Frameworks/R.framework/Resources/bin/R CMD INSTALL MsBackendMsp StartedAt: 2025-10-13 15:40:15 -0400 (Mon, 13 Oct 2025) EndedAt: 2025-10-13 15:40:27 -0400 (Mon, 13 Oct 2025) EllapsedTime: 11.4 seconds RetCode: 0 Status: OK