Package: MsBackendMsp Version: 1.12.0 Command: /Library/Frameworks/R.framework/Resources/bin/R CMD build --keep-empty-dirs --no-resave-data MsBackendMsp StartedAt: 2025-10-14 05:05:17 -0400 (Tue, 14 Oct 2025) EndedAt: 2025-10-14 05:05:38 -0400 (Tue, 14 Oct 2025) EllapsedTime: 21.6 seconds RetCode: 0 Status: OK PackageFile: MsBackendMsp_1.12.0.tar.gz PackageFileSize: 324.8 KiB